BEGIN:VCALENDAR
VERSION:2.0
PRODID:-//West Winery - ECPv6.15.16//NONSGML v1.0//EN
CALSCALE:GREGORIAN
METHOD:PUBLISH
X-ORIGINAL-URL:https://www.westwinery.com
X-WR-CALDESC:Events for West Winery
REFRESH-INTERVAL;VALUE=DURATION:PT1H
X-Robots-Tag:noindex
X-PUBLISHED-TTL:PT1H
BEGIN:VTIMEZONE
TZID:America/Chicago
BEGIN:DAYLIGHT
TZOFFSETFROM:-0600
TZOFFSETTO:-0500
TZNAME:CDT
DTSTART:20240310T080000
END:DAYLIGHT
BEGIN:STANDARD
TZOFFSETFROM:-0500
TZOFFSETTO:-0600
TZNAME:CST
DTSTART:20241103T070000
END:STANDARD
BEGIN:DAYLIGHT
TZOFFSETFROM:-0600
TZOFFSETTO:-0500
TZNAME:CDT
DTSTART:20250309T080000
END:DAYLIGHT
BEGIN:STANDARD
TZOFFSETFROM:-0500
TZOFFSETTO:-0600
TZNAME:CST
DTSTART:20251102T070000
END:STANDARD
BEGIN:DAYLIGHT
TZOFFSETFROM:-0600
TZOFFSETTO:-0500
TZNAME:CDT
DTSTART:20260308T080000
END:DAYLIGHT
BEGIN:STANDARD
TZOFFSETFROM:-0500
TZOFFSETTO:-0600
TZNAME:CST
DTSTART:20261101T070000
END:STANDARD
END:VTIMEZONE
BEGIN:VEVENT
DTSTART;TZID=America/Chicago:20251128T000000
DTEND;TZID=America/Chicago:20251130T235959
DTSTAMP:20260423T162303
CREATED:20250920T154329Z
LAST-MODIFIED:20250920T154329Z
UID:1616-1764288000-1764547199@www.westwinery.com
SUMMARY:Annual Black Friday SALE [all weekend!]
DESCRIPTION:
URL:https://www.westwinery.com/event/annual-black-friday-sale-all-weekend/
END:VEVENT
BEGIN:VEVENT
DTSTART;TZID=America/Chicago:20251107T180000
DTEND;TZID=America/Chicago:20251107T210000
DTSTAMP:20260423T162303
CREATED:20250908T220353Z
LAST-MODIFIED:20250908T220518Z
UID:1580-1762538400-1762549200@www.westwinery.com
SUMMARY:FIRST FRIDAY | Trivia Night + Juice's World of BBQ on-site
DESCRIPTION:
URL:https://www.westwinery.com/event/first-friday-trivia-night-juices-world-of-bbq-on-site/
CATEGORIES:FIRST FRIDAY
END:VEVENT
BEGIN:VEVENT
DTSTART;TZID=America/Chicago:20251018T093000
DTEND;TZID=America/Chicago:20251018T110000
DTSTAMP:20260423T162303
CREATED:20250920T154240Z
LAST-MODIFIED:20250920T154240Z
UID:1614-1760779800-1760785200@www.westwinery.com
SUMMARY:Yoga + Wine [with Yoga on the Porch at West Winery]
DESCRIPTION:
URL:https://www.westwinery.com/event/yoga-wine-with-yoga-on-the-porch-at-west-winery/
END:VEVENT
BEGIN:VEVENT
DTSTART;TZID=America/Chicago:20251010T150000
DTEND;TZID=America/Chicago:20251010T160000
DTSTAMP:20260423T162303
CREATED:20250908T220319Z
LAST-MODIFIED:20250908T220319Z
UID:1578-1760108400-1760112000@www.westwinery.com
SUMMARY:MHS Homecoming Parade
DESCRIPTION:
URL:https://www.westwinery.com/event/mhs-homecoming-parade/
END:VEVENT
BEGIN:VEVENT
DTSTART;TZID=America/Chicago:20251005T130000
DTEND;TZID=America/Chicago:20251005T160000
DTSTAMP:20260423T162303
CREATED:20250908T220600Z
LAST-MODIFIED:20250908T220600Z
UID:1586-1759669200-1759680000@www.westwinery.com
SUMMARY:Closing at 1pm | Private Rental
DESCRIPTION:
URL:https://www.westwinery.com/event/closing-at-1pm-private-rental/
END:VEVENT
BEGIN:VEVENT
DTSTART;TZID=America/Chicago:20251004T090000
DTEND;TZID=America/Chicago:20251004T210000
DTSTAMP:20260423T162303
CREATED:20250908T220257Z
LAST-MODIFIED:20250908T220257Z
UID:1576-1759568400-1759611600@www.westwinery.com
SUMMARY:Macon\, City of Maples\, Marching Band Festival | Parade Downtown & WW Open at 9am!
DESCRIPTION:
URL:https://www.westwinery.com/event/macon-city-of-maples-marching-band-festival-parade-downtown-ww-open-at-9am/
END:VEVENT
BEGIN:VEVENT
DTSTART;TZID=America/Chicago:20251003T180000
DTEND;TZID=America/Chicago:20251003T210000
DTSTAMP:20260423T162303
CREATED:20250908T220221Z
LAST-MODIFIED:20250908T220526Z
UID:1574-1759514400-1759525200@www.westwinery.com
SUMMARY:FIRST FRIDAY | Live Music with Clint & Nick + Watkins BBQ on-site
DESCRIPTION:
URL:https://www.westwinery.com/event/first-friday-live-music-with-clint-nick-watkins-bbq-on-site/
CATEGORIES:FIRST FRIDAY
END:VEVENT
BEGIN:VEVENT
DTSTART;TZID=America/Chicago:20250908T000000
DTEND;TZID=America/Chicago:20250908T235959
DTSTAMP:20260423T162303
CREATED:20250927T220642Z
LAST-MODIFIED:20250909T210930Z
UID:1589-1757289600-1757375999@www.westwinery.com
SUMMARY:West Winery at the Brookfield Wine Stroll + Open Regular Hours in downtown Macon
DESCRIPTION:
URL:https://www.westwinery.com/event/west-winery-at-the-brookfield-wine-stroll-open-regular-hours-in-downtown-macon/
END:VEVENT
BEGIN:VEVENT
DTSTART;TZID=America/Chicago:20250905T180000
DTEND;TZID=America/Chicago:20250905T210000
DTSTAMP:20260423T162303
CREATED:20250908T220148Z
LAST-MODIFIED:20250908T220534Z
UID:1572-1757095200-1757106000@www.westwinery.com
SUMMARY:FIRST FRIDAY | Trivia + Smash Stack Burgers on-site
DESCRIPTION:
URL:https://www.westwinery.com/event/first-friday-trivia-smash-stack-burgers-on-site/
CATEGORIES:FIRST FRIDAY
END:VEVENT
BEGIN:VEVENT
DTSTART;TZID=America/Chicago:20250717T180000
DTEND;TZID=America/Chicago:20250717T200000
DTSTAMP:20260423T162303
CREATED:20250530T223935Z
LAST-MODIFIED:20250530T224020Z
UID:1526-1752775200-1752782400@www.westwinery.com
SUMMARY:THIRD THURSDAY | Live Music\, Sarah & Mark
DESCRIPTION:
URL:https://www.westwinery.com/event/third-thursday-live-music-sarah-mark/
CATEGORIES:THIRD THURSDAY
END:VEVENT
BEGIN:VEVENT
DTSTART;TZID=America/Chicago:20250704T000000
DTEND;TZID=America/Chicago:20250704T235959
DTSTAMP:20260423T162303
CREATED:20250530T223906Z
LAST-MODIFIED:20250530T223906Z
UID:1524-1751587200-1751673599@www.westwinery.com
SUMMARY:Closing Early @ 5pm | 4th of July Holiday
DESCRIPTION:
URL:https://www.westwinery.com/event/closing-early-5pm-4th-of-july-holiday/
END:VEVENT
BEGIN:VEVENT
DTSTART;TZID=America/Chicago:20250621T000000
DTEND;TZID=America/Chicago:20250621T235959
DTSTAMP:20260423T162303
CREATED:20250530T223021Z
LAST-MODIFIED:20250530T223021Z
UID:1520-1750464000-1750550399@www.westwinery.com
SUMMARY:West Winery Open in downtown Macon + at the Rocheport Wine Stroll!
DESCRIPTION:
URL:https://www.westwinery.com/event/west-winery-open-in-downtown-macon-at-the-rocheport-wine-stroll/
END:VEVENT
BEGIN:VEVENT
DTSTART;TZID=America/Chicago:20250619T180000
DTEND;TZID=America/Chicago:20250619T200000
DTSTAMP:20260423T162303
CREATED:20250530T222951Z
LAST-MODIFIED:20250530T223333Z
UID:1518-1750356000-1750363200@www.westwinery.com
SUMMARY:THIRD THURSDAY | Live Music\, Thad Requet
DESCRIPTION:
URL:https://www.westwinery.com/event/third-thursday-live-music-thad-requet/
CATEGORIES:THIRD THURSDAY
END:VEVENT
BEGIN:VEVENT
DTSTART;TZID=America/Chicago:20250606T190000
DTEND;TZID=America/Chicago:20250606T210000
DTSTAMP:20260423T162303
CREATED:20250530T222215Z
LAST-MODIFIED:20250530T223338Z
UID:1505-1749236400-1749243600@www.westwinery.com
SUMMARY:FIRST FRIDAY | Trivia Night + Good Food\, Good Eats on-site
DESCRIPTION:
URL:https://www.westwinery.com/event/first-friday-live-music-featuring-james-legrand-martin-house-pizza-on-site/
CATEGORIES:FIRST FRIDAY
END:VEVENT
BEGIN:VEVENT
DTSTART;TZID=America/Chicago:20250515T190000
DTEND;TZID=America/Chicago:20250515T200000
DTSTAMP:20260423T162303
CREATED:20250530T222612Z
LAST-MODIFIED:20250530T223357Z
UID:1512-1747335600-1747339200@www.westwinery.com
SUMMARY:THIRD THURSDAY | Live Music\, an hour with AJ
DESCRIPTION:
URL:https://www.westwinery.com/event/third-thursday-live-music-an-hour-with-aj/
CATEGORIES:THIRD THURSDAY
END:VEVENT
BEGIN:VEVENT
DTSTART;TZID=America/Chicago:20250510T000000
DTEND;TZID=America/Chicago:20250510T235959
DTSTAMP:20260423T162303
CREATED:20250530T222712Z
LAST-MODIFIED:20250530T222712Z
UID:1514-1746835200-1746921599@www.westwinery.com
SUMMARY:Late Opening @ 3pm [for a private rental]
DESCRIPTION:
URL:https://www.westwinery.com/event/late-opening-3pm-for-a-private-rental/
END:VEVENT
BEGIN:VEVENT
DTSTART;TZID=America/Chicago:20250502T190000
DTEND;TZID=America/Chicago:20250502T210000
DTSTAMP:20260423T162303
CREATED:20250530T222457Z
LAST-MODIFIED:20250530T223403Z
UID:1509-1746212400-1746219600@www.westwinery.com
SUMMARY:FIRST FRIDAY | Live Music featuring James LeGrand + Martin House Pizza on-site
DESCRIPTION:
URL:https://www.westwinery.com/event/first-friday-live-music-featuring-james-legrand-martin-house-pizza-on-site-2/
CATEGORIES:FIRST FRIDAY
END:VEVENT
BEGIN:VEVENT
DTSTART;TZID=America/Chicago:20250420T000000
DTEND;TZID=America/Chicago:20250420T235959
DTSTAMP:20260423T162303
CREATED:20250328T231554Z
LAST-MODIFIED:20250328T231554Z
UID:1488-1745107200-1745193599@www.westwinery.com
SUMMARY:WW Closed
DESCRIPTION:
URL:https://www.westwinery.com/event/ww-closed/
END:VEVENT
BEGIN:VEVENT
DTSTART;TZID=America/Chicago:20250412T180000
DTEND;TZID=America/Chicago:20250412T210000
DTSTAMP:20260423T162303
CREATED:20250328T232118Z
LAST-MODIFIED:20250328T232118Z
UID:1490-1744480800-1744491600@www.westwinery.com
SUMMARY:Puzzles\, Pints\, & Pizzas
DESCRIPTION:
URL:https://www.westwinery.com/event/puzzles-pints-pizzas/
END:VEVENT
BEGIN:VEVENT
DTSTART;TZID=America/Chicago:20250405T110000
DTEND;TZID=America/Chicago:20250405T170000
DTSTAMP:20260423T162303
CREATED:20250328T213235Z
LAST-MODIFIED:20250530T223414Z
UID:1486-1743850800-1743872400@www.westwinery.com
SUMMARY:THE COLLECTIVE: Full Circle
DESCRIPTION:
URL:https://www.westwinery.com/event/the-collective-full-circle/
CATEGORIES:Yoga & Wine
ORGANIZER;CN="Kayla Hartung":MAILTO:kayla@westwinery.com
END:VEVENT
BEGIN:VEVENT
DTSTART;TZID=America/Chicago:20250404T190000
DTEND;TZID=America/Chicago:20250404T210000
DTSTAMP:20260423T162303
CREATED:20250328T213045Z
LAST-MODIFIED:20250530T223419Z
UID:1484-1743793200-1743800400@www.westwinery.com
SUMMARY:FIRST FRIDAY | Trivia + Potluck
DESCRIPTION:
URL:https://www.westwinery.com/event/first-friday-trivia-potluck/
CATEGORIES:FIRST FRIDAY
ORGANIZER;CN="Kayla Hartung":MAILTO:kayla@westwinery.com
END:VEVENT
END:VCALENDAR