BEGIN:VCALENDAR
VERSION:2.0
PRODID:-//West Winery - ECPv6.15.16//NONSGML v1.0//EN
CALSCALE:GREGORIAN
METHOD:PUBLISH
X-ORIGINAL-URL:https://www.westwinery.com
X-WR-CALDESC:Events for West Winery
REFRESH-INTERVAL;VALUE=DURATION:PT1H
X-Robots-Tag:noindex
X-PUBLISHED-TTL:PT1H
BEGIN:VTIMEZONE
TZID:America/Chicago
BEGIN:DAYLIGHT
TZOFFSETFROM:-0600
TZOFFSETTO:-0500
TZNAME:CDT
DTSTART:20240310T080000
END:DAYLIGHT
BEGIN:STANDARD
TZOFFSETFROM:-0500
TZOFFSETTO:-0600
TZNAME:CST
DTSTART:20241103T070000
END:STANDARD
BEGIN:DAYLIGHT
TZOFFSETFROM:-0600
TZOFFSETTO:-0500
TZNAME:CDT
DTSTART:20250309T080000
END:DAYLIGHT
BEGIN:STANDARD
TZOFFSETFROM:-0500
TZOFFSETTO:-0600
TZNAME:CST
DTSTART:20251102T070000
END:STANDARD
BEGIN:DAYLIGHT
TZOFFSETFROM:-0600
TZOFFSETTO:-0500
TZNAME:CDT
DTSTART:20260308T080000
END:DAYLIGHT
BEGIN:STANDARD
TZOFFSETFROM:-0500
TZOFFSETTO:-0600
TZNAME:CST
DTSTART:20261101T070000
END:STANDARD
BEGIN:DAYLIGHT
TZOFFSETFROM:-0600
TZOFFSETTO:-0500
TZNAME:CDT
DTSTART:20270314T080000
END:DAYLIGHT
BEGIN:STANDARD
TZOFFSETFROM:-0500
TZOFFSETTO:-0600
TZNAME:CST
DTSTART:20271107T070000
END:STANDARD
END:VTIMEZONE
BEGIN:VEVENT
DTSTART;TZID=America/Chicago:20260412T130000
DTEND;TZID=America/Chicago:20260412T150000
DTSTAMP:20260423T131143
CREATED:20260214T200717Z
LAST-MODIFIED:20260214T200717Z
UID:1699-1775998800-1776006000@www.westwinery.com
SUMMARY:Sunday Session | Cultivated Open Mic Experience
DESCRIPTION:Contact kayla@westwinery.com to schedule your set time!
URL:https://www.westwinery.com/event/sunday-session-cultivated-open-mic-experience/
END:VEVENT
BEGIN:VEVENT
DTSTART;TZID=America/Chicago:20260405T000000
DTEND;TZID=America/Chicago:20260405T235959
DTSTAMP:20260423T131143
CREATED:20260214T200550Z
LAST-MODIFIED:20260214T200550Z
UID:1695-1775347200-1775433599@www.westwinery.com
SUMMARY:CLOSED | Easter Sunday
DESCRIPTION:
URL:https://www.westwinery.com/event/closed-easter-sunday/
END:VEVENT
BEGIN:VEVENT
DTSTART;TZID=America/Chicago:20260404T180000
DTEND;TZID=America/Chicago:20260404T210000
DTSTAMP:20260423T131143
CREATED:20260214T200630Z
LAST-MODIFIED:20260214T200630Z
UID:1697-1775325600-1775336400@www.westwinery.com
SUMMARY:Immersive Art Exhibit | Jameson King
DESCRIPTION:
URL:https://www.westwinery.com/event/immersive-art-exhibit-jameson-king/
END:VEVENT
BEGIN:VEVENT
DTSTART;TZID=America/Chicago:20260403T190000
DTEND;TZID=America/Chicago:20260403T210000
DTSTAMP:20260423T131143
CREATED:20260214T200534Z
LAST-MODIFIED:20260214T200954Z
UID:1693-1775242800-1775250000@www.westwinery.com
SUMMARY:FIRST FRIDAY | Live Music with Sarah & Mark + Watkin's BBQ on-site
DESCRIPTION:
URL:https://www.westwinery.com/event/first-friday-live-music-with-sarah-mark-watkins-bbq-on-site/
END:VEVENT
BEGIN:VEVENT
DTSTART;TZID=America/Chicago:20260322T100000
DTEND;TZID=America/Chicago:20260322T120000
DTSTAMP:20260423T131143
CREATED:20260301T170726Z
LAST-MODIFIED:20260301T170726Z
UID:1715-1774173600-1774180800@www.westwinery.com
SUMMARY:Sunday Brunch | Reservations Required
DESCRIPTION:Contact kayla@westwinery.com to reserve your brunch spot with us!
URL:https://www.westwinery.com/event/sunday-brunch-reservations-required/
END:VEVENT
BEGIN:VEVENT
DTSTART;TZID=America/Chicago:20260308T140000
DTEND;TZID=America/Chicago:20260308T160000
DTSTAMP:20260423T131143
CREATED:20260214T200446Z
LAST-MODIFIED:20260214T200446Z
UID:1691-1772978400-1772985600@www.westwinery.com
SUMMARY:CLOSED | Private Event
DESCRIPTION:We will close @ 2pm on Sunday\, March 8th
URL:https://www.westwinery.com/event/closed-private-event/
END:VEVENT
BEGIN:VEVENT
DTSTART;TZID=America/Chicago:20260306T190000
DTEND;TZID=America/Chicago:20260306T210000
DTSTAMP:20260423T131143
CREATED:20260214T200409Z
LAST-MODIFIED:20260214T201003Z
UID:1689-1772823600-1772830800@www.westwinery.com
SUMMARY:FIRST FRIDAY | Live Music with James LeGrand + Martin House Pizza on-site
DESCRIPTION:
URL:https://www.westwinery.com/event/first-friday-live-music-with-james-legrand-martin-house-pizza-on-site/
END:VEVENT
BEGIN:VEVENT
DTSTART;TZID=America/Chicago:20260227T190000
DTEND;TZID=America/Chicago:20260227T210000
DTSTAMP:20260423T131143
CREATED:20260214T200009Z
LAST-MODIFIED:20260214T201015Z
UID:1685-1772218800-1772226000@www.westwinery.com
SUMMARY:FINAL FRIDAY | TRIVIA @ 7pm!
DESCRIPTION:Starting **NOW** and through 2026\, every other Final Friday we’ll host Trivia Night!
URL:https://www.westwinery.com/event/final-friday-trivia-7pm/
END:VEVENT
BEGIN:VEVENT
DTSTART;TZID=America/Chicago:20260224T180000
DTEND;TZID=America/Chicago:20260224T200000
DTSTAMP:20260423T131143
CREATED:20260214T200252Z
LAST-MODIFIED:20260214T200252Z
UID:1687-1771956000-1771963200@www.westwinery.com
SUMMARY:Yoga + Wine with Yoga on the Porch
DESCRIPTION:Contact Crystal with Yoga on the Porch to sign up or we welcome walk-ins as well the night of!
URL:https://www.westwinery.com/event/yoga-wine-with-yoga-on-the-porch/
END:VEVENT
BEGIN:VEVENT
DTSTART;TZID=America/Chicago:20260215T120000
DTEND;TZID=America/Chicago:20260215T150000
DTSTAMP:20260423T131143
CREATED:20260117T001222Z
LAST-MODIFIED:20260214T195755Z
UID:1679-1771156800-1771167600@www.westwinery.com
SUMMARY:Galentine's/Valentine's Day @ WW | Click for more info!
DESCRIPTION:EMAIL KAYLA@WESTWINERY.COM to sign up! \nIncluded for each pair is:\n🍾1 bottle of our 107 Brut (Rosé or White)\n🍽️1 shareable plate of yummy treats\n🎁$5 credit for each person (or $10 total per pair) to use toward the purchase of a custom price of charm jewelry from Kam’s Creations!\n.\nPlease arrive anytime between the hours of 12-3pm on February 15th\, 2026
URL:https://www.westwinery.com/event/galentines-day-event-with-sip-downtown-details-soon/
END:VEVENT
BEGIN:VEVENT
DTSTART;TZID=America/Chicago:20260206T190000
DTEND;TZID=America/Chicago:20260206T210000
DTSTAMP:20260423T131143
CREATED:20260117T000950Z
LAST-MODIFIED:20260214T201025Z
UID:1677-1770404400-1770411600@www.westwinery.com
SUMMARY:FIRST FRIDAY| Live Music with Jamie Baker + Charcuterie Bar from Cakes by Kristina
DESCRIPTION:
URL:https://www.westwinery.com/event/first-friday-live-music-with-jamie-baker-charcuterie-bar-from-cakes-by-kristina/
END:VEVENT
BEGIN:VEVENT
DTSTART;TZID=America/Chicago:20260118T130000
DTEND;TZID=America/Chicago:20260118T150000
DTSTAMP:20260423T131143
CREATED:20260117T000724Z
LAST-MODIFIED:20260117T000724Z
UID:1674-1768741200-1768748400@www.westwinery.com
SUMMARY:Sunday Sessions | Cultivated Open Mic
DESCRIPTION:
URL:https://www.westwinery.com/event/sunday-sessions-cultivated-open-mic/
END:VEVENT
BEGIN:VEVENT
DTSTART;TZID=America/Chicago:20260114T180000
DTEND;TZID=America/Chicago:20260114T210000
DTSTAMP:20260423T131143
CREATED:20260214T200920Z
LAST-MODIFIED:20260214T200920Z
UID:1705-1768413600-1768424400@www.westwinery.com
SUMMARY:Winemaker's Dinner Series | Reservations Required
DESCRIPTION:email kayla@westwinery.com for more information
URL:https://www.westwinery.com/event/winemakers-dinner-series-reservations-required-2/
END:VEVENT
BEGIN:VEVENT
DTSTART;TZID=America/Chicago:20260113T180000
DTEND;TZID=America/Chicago:20260113T210000
DTSTAMP:20260423T131143
CREATED:20260214T200852Z
LAST-MODIFIED:20260214T200852Z
UID:1703-1768327200-1768338000@www.westwinery.com
SUMMARY:Winemaker's Dinner Series | Reservations Required
DESCRIPTION:email kayla@westwinery.com for more information
URL:https://www.westwinery.com/event/winemakers-dinner-series-reservations-required/
END:VEVENT
BEGIN:VEVENT
DTSTART;TZID=America/Chicago:20251219T190000
DTEND;TZID=America/Chicago:20251219T210000
DTSTAMP:20260423T131143
CREATED:20251202T162739Z
LAST-MODIFIED:20251202T170334Z
UID:1650-1766170800-1766178000@www.westwinery.com
SUMMARY:FESTIVUS FRIDAYS | Week 3 | Trivia + Ugly Sweater Party + Food Truck
DESCRIPTION:
URL:https://www.westwinery.com/event/festivus-fridays-week-3-trivia-ugly-sweater-party-food-truck/
END:VEVENT
BEGIN:VEVENT
DTSTART;TZID=America/Chicago:20251219T170000
DTEND;TZID=America/Chicago:20251219T200000
DTSTAMP:20260423T131143
CREATED:20250920T154130Z
LAST-MODIFIED:20251202T165534Z
UID:1612-1766163600-1766174400@www.westwinery.com
SUMMARY:Macon Christmas Market [hosted by West Winery]
DESCRIPTION:
URL:https://www.westwinery.com/event/macon-christmas-market-hosted-by-west-winery-5/
END:VEVENT
BEGIN:VEVENT
DTSTART;TZID=America/Chicago:20251218T180000
DTEND;TZID=America/Chicago:20251218T190000
DTSTAMP:20260423T131143
CREATED:20250920T153837Z
LAST-MODIFIED:20251202T163145Z
UID:1604-1766080800-1766084400@www.westwinery.com
SUMMARY:Macon Christmas Market [hosted by West Winery]
DESCRIPTION:
URL:https://www.westwinery.com/event/macon-christmas-market-hosted-by-west-winery/
END:VEVENT
BEGIN:VEVENT
DTSTART;TZID=America/Chicago:20251218T170000
DTEND;TZID=America/Chicago:20251218T200000
DTSTAMP:20260423T131143
CREATED:20250920T154113Z
LAST-MODIFIED:20251202T165522Z
UID:1610-1766077200-1766088000@www.westwinery.com
SUMMARY:Macon Christmas Market [hosted by West Winery]
DESCRIPTION:
URL:https://www.westwinery.com/event/macon-christmas-market-hosted-by-west-winery-4/
END:VEVENT
BEGIN:VEVENT
DTSTART;TZID=America/Chicago:20251212T190000
DTEND;TZID=America/Chicago:20251212T210000
DTSTAMP:20260423T131143
CREATED:20251202T162654Z
LAST-MODIFIED:20251202T165814Z
UID:1648-1765566000-1765573200@www.westwinery.com
SUMMARY:FESTIVUS FRIDAYS | Week 2 | Live Music\, Deuces Wild + Food Truck
DESCRIPTION:
URL:https://www.westwinery.com/event/festivus-fridays-week-2-live-music-deuces-wild-food-truck/
END:VEVENT
BEGIN:VEVENT
DTSTART;TZID=America/Chicago:20251212T170000
DTEND;TZID=America/Chicago:20251212T200000
DTSTAMP:20260423T131143
CREATED:20250920T154049Z
LAST-MODIFIED:20251202T165307Z
UID:1608-1765558800-1765569600@www.westwinery.com
SUMMARY:Macon Christmas Market [hosted by West Winery]
DESCRIPTION:
URL:https://www.westwinery.com/event/macon-christmas-market-hosted-by-west-winery-3/
END:VEVENT
BEGIN:VEVENT
DTSTART;TZID=America/Chicago:20251211T170000
DTEND;TZID=America/Chicago:20251211T200000
DTSTAMP:20260423T131143
CREATED:20250920T153900Z
LAST-MODIFIED:20251202T165205Z
UID:1606-1765472400-1765483200@www.westwinery.com
SUMMARY:Macon Christmas Market [hosted by West Winery]
DESCRIPTION:
URL:https://www.westwinery.com/event/macon-christmas-market-hosted-by-west-winery-2/
END:VEVENT
BEGIN:VEVENT
DTSTART;TZID=America/Chicago:20251205T190000
DTEND;TZID=America/Chicago:20251205T210000
DTSTAMP:20260423T131143
CREATED:20250908T220432Z
LAST-MODIFIED:20251202T165643Z
UID:1582-1764961200-1764968400@www.westwinery.com
SUMMARY:FESTIVUS FRIDAY | Week 1 | Live Music Matt Kennedy + Martin House Pizza on-site
DESCRIPTION:
URL:https://www.westwinery.com/event/first-friday-live-music-matt-kennedy-martin-house-pizza-on-site/
CATEGORIES:FIRST FRIDAY
END:VEVENT
BEGIN:VEVENT
DTSTART;TZID=America/Chicago:20251205T170000
DTEND;TZID=America/Chicago:20251205T200000
DTSTAMP:20260423T131143
CREATED:20251202T164917Z
LAST-MODIFIED:20251202T164917Z
UID:1655-1764954000-1764964800@www.westwinery.com
SUMMARY:Macon Christmas Market [hosted by West Winery]
DESCRIPTION:
URL:https://www.westwinery.com/event/macon-christmas-market-hosted-by-west-winery-6/
END:VEVENT
BEGIN:VEVENT
DTSTART;TZID=America/Chicago:20251204T170000
DTEND;TZID=America/Chicago:20251204T200000
DTSTAMP:20260423T131143
CREATED:20250920T153747Z
LAST-MODIFIED:20251202T164726Z
UID:1599-1764867600-1764878400@www.westwinery.com
SUMMARY:Macon Christmas Market [hosted by West Winery]
DESCRIPTION:
URL:https://www.westwinery.com/event/macon-christmas-market/
END:VEVENT
BEGIN:VEVENT
DTSTART;TZID=America/Chicago:20251128T000000
DTEND;TZID=America/Chicago:20251130T235959
DTSTAMP:20260423T131143
CREATED:20250920T154329Z
LAST-MODIFIED:20250920T154329Z
UID:1616-1764288000-1764547199@www.westwinery.com
SUMMARY:Annual Black Friday SALE [all weekend!]
DESCRIPTION:
URL:https://www.westwinery.com/event/annual-black-friday-sale-all-weekend/
END:VEVENT
BEGIN:VEVENT
DTSTART;TZID=America/Chicago:20251107T180000
DTEND;TZID=America/Chicago:20251107T210000
DTSTAMP:20260423T131143
CREATED:20250908T220353Z
LAST-MODIFIED:20250908T220518Z
UID:1580-1762538400-1762549200@www.westwinery.com
SUMMARY:FIRST FRIDAY | Trivia Night + Juice's World of BBQ on-site
DESCRIPTION:
URL:https://www.westwinery.com/event/first-friday-trivia-night-juices-world-of-bbq-on-site/
CATEGORIES:FIRST FRIDAY
END:VEVENT
BEGIN:VEVENT
DTSTART;TZID=America/Chicago:20251018T093000
DTEND;TZID=America/Chicago:20251018T110000
DTSTAMP:20260423T131143
CREATED:20250920T154240Z
LAST-MODIFIED:20250920T154240Z
UID:1614-1760779800-1760785200@www.westwinery.com
SUMMARY:Yoga + Wine [with Yoga on the Porch at West Winery]
DESCRIPTION:
URL:https://www.westwinery.com/event/yoga-wine-with-yoga-on-the-porch-at-west-winery/
END:VEVENT
BEGIN:VEVENT
DTSTART;TZID=America/Chicago:20251010T150000
DTEND;TZID=America/Chicago:20251010T160000
DTSTAMP:20260423T131143
CREATED:20250908T220319Z
LAST-MODIFIED:20250908T220319Z
UID:1578-1760108400-1760112000@www.westwinery.com
SUMMARY:MHS Homecoming Parade
DESCRIPTION:
URL:https://www.westwinery.com/event/mhs-homecoming-parade/
END:VEVENT
BEGIN:VEVENT
DTSTART;TZID=America/Chicago:20251005T130000
DTEND;TZID=America/Chicago:20251005T160000
DTSTAMP:20260423T131143
CREATED:20250908T220600Z
LAST-MODIFIED:20250908T220600Z
UID:1586-1759669200-1759680000@www.westwinery.com
SUMMARY:Closing at 1pm | Private Rental
DESCRIPTION:
URL:https://www.westwinery.com/event/closing-at-1pm-private-rental/
END:VEVENT
BEGIN:VEVENT
DTSTART;TZID=America/Chicago:20251004T090000
DTEND;TZID=America/Chicago:20251004T210000
DTSTAMP:20260423T131143
CREATED:20250908T220257Z
LAST-MODIFIED:20250908T220257Z
UID:1576-1759568400-1759611600@www.westwinery.com
SUMMARY:Macon\, City of Maples\, Marching Band Festival | Parade Downtown & WW Open at 9am!
DESCRIPTION:
URL:https://www.westwinery.com/event/macon-city-of-maples-marching-band-festival-parade-downtown-ww-open-at-9am/
END:VEVENT
END:VCALENDAR