BEGIN:VCALENDAR
VERSION:2.0
PRODID:-//West Winery - ECPv6.15.16//NONSGML v1.0//EN
CALSCALE:GREGORIAN
METHOD:PUBLISH
X-ORIGINAL-URL:https://www.westwinery.com
X-WR-CALDESC:Events for West Winery
REFRESH-INTERVAL;VALUE=DURATION:PT1H
X-Robots-Tag:noindex
X-PUBLISHED-TTL:PT1H
BEGIN:VTIMEZONE
TZID:America/Chicago
BEGIN:DAYLIGHT
TZOFFSETFROM:-0600
TZOFFSETTO:-0500
TZNAME:CDT
DTSTART:20240310T080000
END:DAYLIGHT
BEGIN:STANDARD
TZOFFSETFROM:-0500
TZOFFSETTO:-0600
TZNAME:CST
DTSTART:20241103T070000
END:STANDARD
BEGIN:DAYLIGHT
TZOFFSETFROM:-0600
TZOFFSETTO:-0500
TZNAME:CDT
DTSTART:20250309T080000
END:DAYLIGHT
BEGIN:STANDARD
TZOFFSETFROM:-0500
TZOFFSETTO:-0600
TZNAME:CST
DTSTART:20251102T070000
END:STANDARD
BEGIN:DAYLIGHT
TZOFFSETFROM:-0600
TZOFFSETTO:-0500
TZNAME:CDT
DTSTART:20260308T080000
END:DAYLIGHT
BEGIN:STANDARD
TZOFFSETFROM:-0500
TZOFFSETTO:-0600
TZNAME:CST
DTSTART:20261101T070000
END:STANDARD
END:VTIMEZONE
BEGIN:VEVENT
DTSTART;TZID=America/Chicago:20250717T180000
DTEND;TZID=America/Chicago:20250717T200000
DTSTAMP:20260423T221607
CREATED:20250530T223935Z
LAST-MODIFIED:20250530T224020Z
UID:1526-1752775200-1752782400@www.westwinery.com
SUMMARY:THIRD THURSDAY | Live Music\, Sarah & Mark
DESCRIPTION:
URL:https://www.westwinery.com/event/third-thursday-live-music-sarah-mark/
CATEGORIES:THIRD THURSDAY
END:VEVENT
BEGIN:VEVENT
DTSTART;TZID=America/Chicago:20250619T180000
DTEND;TZID=America/Chicago:20250619T200000
DTSTAMP:20260423T221607
CREATED:20250530T222951Z
LAST-MODIFIED:20250530T223333Z
UID:1518-1750356000-1750363200@www.westwinery.com
SUMMARY:THIRD THURSDAY | Live Music\, Thad Requet
DESCRIPTION:
URL:https://www.westwinery.com/event/third-thursday-live-music-thad-requet/
CATEGORIES:THIRD THURSDAY
END:VEVENT
BEGIN:VEVENT
DTSTART;TZID=America/Chicago:20250515T190000
DTEND;TZID=America/Chicago:20250515T200000
DTSTAMP:20260423T221607
CREATED:20250530T222612Z
LAST-MODIFIED:20250530T223357Z
UID:1512-1747335600-1747339200@www.westwinery.com
SUMMARY:THIRD THURSDAY | Live Music\, an hour with AJ
DESCRIPTION:
URL:https://www.westwinery.com/event/third-thursday-live-music-an-hour-with-aj/
CATEGORIES:THIRD THURSDAY
END:VEVENT
END:VCALENDAR