BEGIN:VCALENDAR
VERSION:2.0
PRODID:-//West Winery - ECPv6.15.16//NONSGML v1.0//EN
CALSCALE:GREGORIAN
METHOD:PUBLISH
X-WR-CALNAME:West Winery
X-ORIGINAL-URL:https://www.westwinery.com
X-WR-CALDESC:Events for West Winery
REFRESH-INTERVAL;VALUE=DURATION:PT1H
X-Robots-Tag:noindex
X-PUBLISHED-TTL:PT1H
BEGIN:VTIMEZONE
TZID:America/Chicago
BEGIN:DAYLIGHT
TZOFFSETFROM:-0600
TZOFFSETTO:-0500
TZNAME:CDT
DTSTART:20240310T080000
END:DAYLIGHT
BEGIN:STANDARD
TZOFFSETFROM:-0500
TZOFFSETTO:-0600
TZNAME:CST
DTSTART:20241103T070000
END:STANDARD
BEGIN:DAYLIGHT
TZOFFSETFROM:-0600
TZOFFSETTO:-0500
TZNAME:CDT
DTSTART:20250309T080000
END:DAYLIGHT
BEGIN:STANDARD
TZOFFSETFROM:-0500
TZOFFSETTO:-0600
TZNAME:CST
DTSTART:20251102T070000
END:STANDARD
BEGIN:DAYLIGHT
TZOFFSETFROM:-0600
TZOFFSETTO:-0500
TZNAME:CDT
DTSTART:20260308T080000
END:DAYLIGHT
BEGIN:STANDARD
TZOFFSETFROM:-0500
TZOFFSETTO:-0600
TZNAME:CST
DTSTART:20261101T070000
END:STANDARD
END:VTIMEZONE
BEGIN:VEVENT
DTSTART;TZID=America/Chicago:20251205T190000
DTEND;TZID=America/Chicago:20251205T210000
DTSTAMP:20260423T235648
CREATED:20250908T220432Z
LAST-MODIFIED:20251202T165643Z
UID:1582-1764961200-1764968400@www.westwinery.com
SUMMARY:FESTIVUS FRIDAY | Week 1 | Live Music Matt Kennedy + Martin House Pizza on-site
DESCRIPTION:
URL:https://www.westwinery.com/event/first-friday-live-music-matt-kennedy-martin-house-pizza-on-site/
CATEGORIES:FIRST FRIDAY
END:VEVENT
END:VCALENDAR