BEGIN:VCALENDAR
VERSION:2.0
PRODID:-//West Winery - ECPv6.15.16//NONSGML v1.0//EN
CALSCALE:GREGORIAN
METHOD:PUBLISH
X-ORIGINAL-URL:https://www.westwinery.com
X-WR-CALDESC:Events for West Winery
REFRESH-INTERVAL;VALUE=DURATION:PT1H
X-Robots-Tag:noindex
X-PUBLISHED-TTL:PT1H
BEGIN:VTIMEZONE
TZID:America/Chicago
BEGIN:DAYLIGHT
TZOFFSETFROM:-0600
TZOFFSETTO:-0500
TZNAME:CDT
DTSTART:20240310T080000
END:DAYLIGHT
BEGIN:STANDARD
TZOFFSETFROM:-0500
TZOFFSETTO:-0600
TZNAME:CST
DTSTART:20241103T070000
END:STANDARD
BEGIN:DAYLIGHT
TZOFFSETFROM:-0600
TZOFFSETTO:-0500
TZNAME:CDT
DTSTART:20250309T080000
END:DAYLIGHT
BEGIN:STANDARD
TZOFFSETFROM:-0500
TZOFFSETTO:-0600
TZNAME:CST
DTSTART:20251102T070000
END:STANDARD
BEGIN:DAYLIGHT
TZOFFSETFROM:-0600
TZOFFSETTO:-0500
TZNAME:CDT
DTSTART:20260308T080000
END:DAYLIGHT
BEGIN:STANDARD
TZOFFSETFROM:-0500
TZOFFSETTO:-0600
TZNAME:CST
DTSTART:20261101T070000
END:STANDARD
END:VTIMEZONE
BEGIN:VEVENT
DTSTART;TZID=America/Chicago:20251003T180000
DTEND;TZID=America/Chicago:20251003T210000
DTSTAMP:20260424T030415
CREATED:20250908T220221Z
LAST-MODIFIED:20250908T220526Z
UID:1574-1759514400-1759525200@www.westwinery.com
SUMMARY:FIRST FRIDAY | Live Music with Clint & Nick + Watkins BBQ on-site
DESCRIPTION:
URL:https://www.westwinery.com/event/first-friday-live-music-with-clint-nick-watkins-bbq-on-site/
CATEGORIES:FIRST FRIDAY
END:VEVENT
END:VCALENDAR